BEGIN:VCALENDAR
VERSION:2.0
PRODID:-//ChamberMaster//Event Calendar 2.0//EN
METHOD:PUBLISH
X-PUBLISHED-TTL:P3D
REFRESH-INTERVAL:P3D
CALSCALE:GREGORIAN
BEGIN:VEVENT
DTSTART:20260427T203000Z
DTEND:20260427T220000Z
X-MICROSOFT-CDO-ALLDAYEVENT:FALSE
SUMMARY:BRUSHES\, DOTS\, AND DOODLES: A Painting Adventure (Children's art class\, ages 7–10) at Glastonbury Arts
DESCRIPTION:BRUSHES\, DOTS\, AND DOODLES: A Painting Adventure (Ages 7 10)\nMondays\, April 6 June 8\, no class on April 13 (public school break) and May 25 (Memorial Day)\,\n\n8 weeks | 4:30 6:00 PM\n\n\n\nGrab your brushes and let the creativity flow! In this fun-filled 8 week painting adventure\, young artists will explore exciting techniques like pointillism\, texture-building\, and expressive brushwork. Along the way\, they'll discover different painting styles and experiment with color\, form\, and imagination. Each class is hands-on and designed to build confidence while encouraging creative exploration. No experience needed just curiosity\, creativity\, and a love of color! Family and friends are invited to join us for the final class where we'll celebrate the amazing artistic creations of our young artists and enjoy some light refreshments!\n\n\n\nInstructor Cassidy Molino
X-ALT-DESC;FMTTYPE=text/html:<h2 style="font-style:italic"><span style="font-size:16px"><strong><span style="color:#0000FF"><span style="font-family:arial\,sans-serif">BRUSHES\, DOTS\, AND DOODLES: A Painting Adventure (Ages 7&ndash\;10)</span></span></strong></span></h2>\n<strong><span style="font-family:arial\,sans-serif"><span style="font-size:10.0pt">Mondays\, April 6&ndash\;June 8\, no class on April 13 (public school break) and May 25 (Memorial Day)\,</span></span></strong><br />\n<strong><span style="font-family:arial\,sans-serif"><span style="font-size:10.0pt">8 weeks | 4:30&ndash\;6:00 PM</span></span></strong><br />\n<br />\n<span style="font-family:arial\,sans-serif"><span style="font-size:10.0pt">Grab your brushes and let the creativity flow! In this fun-filled 8 week painting adventure\, young artists will explore exciting techniques like pointillism\, texture-building\, and expressive brushwork. Along the way\, they&rsquo\;ll discover different painting styles and experiment with color\, form\, and imagination. Each class is hands-on and designed to build confidence while encouraging creative exploration. No experience needed&mdash\;just curiosity\, creativity\, and a love of color! Family and friends are invited to join us for the final class where we&rsquo\;ll celebrate the amazing artistic creations of our young artists and enjoy some light refreshments!</span></span><br />\n<br />\nInstructor <strong>Cassidy Molino</strong>
LOCATION:Glastonbury Arts 1396 Hebron Avenue\, Glastonbury
UID:e.2240.18276
SEQUENCE:3
DTSTAMP:20260424T185010Z
URL:https://www.crvchamber.org/events/details/brushes-dots-and-doodles-a-painting-adventure-children-s-art-class-ages-7-10-at-glastonbury-arts-04-27-2026-18276
END:VEVENT

END:VCALENDAR
