BEGIN:VCALENDAR
VERSION:2.0
PRODID:-//ChamberMaster//Event Calendar 2.0//EN
METHOD:PUBLISH
X-PUBLISHED-TTL:P3D
REFRESH-INTERVAL:P3D
CALSCALE:GREGORIAN
BEGIN:VEVENT
DTSTART:20251006T204500Z
DTEND:20251006T221500Z
X-MICROSOFT-CDO-ALLDAYEVENT:FALSE
SUMMARY:Cartooning: Characters\, Comics & Creativity - Fall Art Class for Kids ages 8-14
DESCRIPTION:CARTOONING: CHARACTERS\, COMICS & CREATIVITY (Ages 8 to 14)\nMondays\, Sept. 22 to Nov. 24\, 4:45 to 6:15 pm (8 weeks)\n\nNote that there is no class on the following school holidays\, Monday October 13 and October 20.\n\n\n\nAre you ready to take your cartooning to the next level? Students will develop their own unique characters\, expressions\, and storytelling styles. We'll dive into advanced drawing techniques\, dynamic poses\, inking\, and panel layout as students begin crafting their own comic strips and mini graphic stories. Perfect for students who have taken Cartooning 101 with us and for students eager to develop their cartooning\, drawing and storytelling skills. Family and friends are invited to the final class to celebrate the students' stories and enjoy some light refreshments.\n\nInstructor: Cassidy Molino
X-ALT-DESC;FMTTYPE=text/html:<h2 style="font-style:italic"><strong><span style="color:#0000FF">CARTOONING: CHARACTERS\, COMICS &amp\; CREATIVITY (Ages 8 to 14)</span></strong></h2>\n<strong>Mondays\, Sept. 22 to Nov. 24\, 4:45 to 6:15 pm (8 weeks)</strong><br />\nNote that there is no class on the following school holidays\, Monday October 13 and October 20.<br />\n<br />\nAre you ready to take your cartooning to the next level? Students will develop their own unique characters\, expressions\, and storytelling styles. We&#39\;ll dive into advanced drawing techniques\, dynamic poses\, inking\, and panel layout as students begin crafting their own comic strips and mini graphic stories. Perfect for students who have taken Cartooning 101 with us and for students eager to develop their cartooning\, drawing and storytelling skills. Family and friends are invited to the final class to celebrate the students&#39\; stories and enjoy some light refreshments.<br />\n<strong>Instructor: Cassidy Molino</strong>
LOCATION:Glastonbury Arts Center 1396 Hebron Avenue Glastonbury\, Connecticut
UID:e.2240.15072
SEQUENCE:3
DTSTAMP:20260419T132502Z
URL:https://www.crvchamber.org/events/details/cartooning-characters-comics-creativity-fall-art-class-for-kids-ages-8-14-10-06-2025-15072
END:VEVENT

END:VCALENDAR
