BEGIN:VCALENDAR
VERSION:2.0
PRODID:-//ChamberMaster//Event Calendar 2.0//EN
METHOD:PUBLISH
X-PUBLISHED-TTL:P3D
REFRESH-INTERVAL:P3D
CALSCALE:GREGORIAN
BEGIN:VEVENT
DTSTART:20230928T120000Z
DTEND:20230928T130000Z
X-MICROSOFT-CDO-ALLDAYEVENT:FALSE
SUMMARY:Coffee with Class: Love.com
DESCRIPTION:Using online dating apps can be a great way to connect with new people but can also be a risky venture. If you're using dating apps or social networking sites to meet someone\, join Chelsea Groton Bank to learn about online dating safety\, scams\, and identity theft. Let us help you understand who's a keeper and what phishes should be thrown back.
X-ALT-DESC;FMTTYPE=text/html:Using online dating apps can be a great way to connect with new people but can also be a risky venture. If you&rsquo\;re using dating apps or social networking sites to meet someone\, join Chelsea Groton Bank to learn about online dating safety\, scams\, and identity theft. Let us help you understand who&rsquo\;s a keeper and what phishes should be thrown back.
LOCATION:Chelsea Groton Bank- Center Groton Branch 1319 Gold Star Highway Groton\, CT
UID:e.2240.12888
SEQUENCE:3
DTSTAMP:20260421T085133Z
URL:https://www.crvchamber.org/events/details/coffee-with-class-love-com-12888
END:VEVENT

END:VCALENDAR
