BEGIN:VCALENDAR
VERSION:2.0
PRODID:-//ChamberMaster//Event Calendar 2.0//EN
METHOD:PUBLISH
X-PUBLISHED-TTL:P3D
REFRESH-INTERVAL:P3D
CALSCALE:GREGORIAN
BEGIN:VEVENT
DTSTART:20260513T160000Z
DTEND:20260513T170000Z
X-MICROSOFT-CDO-ALLDAYEVENT:FALSE
SUMMARY:CRV Chamber Open Networking - Glastonbury - 05/13/2026
DESCRIPTION:Our Open Networking sessions are dynamic\, welcoming\, and consistently well attended\, bringing together a fresh mix of professionals every other week at the Academy Cafeteria in Glastonbury and Goodwin University in East Hartford. Open to all\, these sessions are free for Chamber members\, and future members are welcome to attend up to four times at no cost an easy way to experience the value of the Chamber firsthand. Each gathering offers the opportunity to meet new faces\, build authentic connections\, and expand your network in a relaxed\, engaging environment. Hosted by Eric Lopkin\, owner of The Modern Observer Group\, a celebrated facilitator and author\, every session also features a guest speaker who educates attendees on a business-focused topic never a sales pitch making each meeting both informative and impactful.\n \n\nOur guest speaker will be Janet Evans from the Glastonbury Farmer's Market. She will be discussing the upcoming season with a renewed focus on growth\, community engagement and enhancing the overall vendor and attendee experience. She will provide an overview of our new board members\, a newly hired Social Media and Market Manager\, volunteer pipeline\, and continued partnership with the town and Chamber. The Market is also working on introducing events this year to increase traffic at the market. And finally\, they are actively seeking CT Grown agriculture/aquaculture vendors\, local nonprofits\, CT-made vendors and sponsors to help expand the market and showcase the best Glastonbury and the area has to offer.\n\n \nInterested in speaking?  Interested in sponsoring?\n\nLet us know!\n\n\n\nChamber members - you will receive photos and registration information for the session!
X-ALT-DESC;FMTTYPE=text/html:<span style="font-size:14px\;">Our Open Networking sessions are dynamic\, welcoming\, and consistently well attended\, bringing together a fresh mix of professionals every other week at the Academy Cafeteria in Glastonbury and Goodwin University in East Hartford. Open to all\, these sessions are free for Chamber members\, and future members are welcome to attend up to four times at no cost&mdash\;an easy way to experience the value of the Chamber firsthand. Each gathering offers the opportunity to meet new faces\, build authentic connections\, and expand your network in a relaxed\, engaging environment. Hosted by Eric Lopkin\, owner of <a href="https://modernobserver.com/">The Modern Observer Group</a>\, a celebrated facilitator and author\, every session also features a guest speaker who educates attendees on a business-focused topic&mdash\;never a sales pitch&mdash\;making each meeting both informative and impactful.</span>\n<p style="margin: 0px\; padding: 0px\; color: rgb(64\, 63\, 66)\; font-family: Arial\, Verdana\, Helvetica\, sans-serif\; font-size: 12px\; white-space-collapse: preserve\;">&nbsp\;</p>\n\n<p style="margin: 0px\; padding: 0px\; color: rgb(64\, 63\, 66)\; font-family: Arial\, Verdana\, Helvetica\, sans-serif\; font-size: 12px\; white-space-collapse: preserve\;"><span style="font-size:14px\;"><span style="color: rgb(51\, 51\, 51)\; font-family: sans-serif\, Arial\, Verdana\, &quot\;Trebuchet MS&quot\;\; background-color: rgb(255\, 255\, 255)\;">Our guest speaker will be Janet Evans from the Glastonbury Farmer&#39\;s Market. She will be discussing the </span><span style="font-family:aptos\,sans-serif\;">upcoming season with a renewed focus on growth\, community engagement and enhancing the overall vendor and attendee experience. She will provide an overview of our new board members\, a newly hired Social Media and Market Manager\, volunteer pipeline\, and continued partnership with the town and Chamber. The Market is also working on introducing events this year to increase traffic at the market. And finally\, they are actively seeking CT Grown agriculture/aquaculture vendors\, local nonprofits\, CT-made vendors and sponsors to help expand the market and showcase the best Glastonbury and the area has to offer.</span></span></p>\n\n<p style="margin: 0px\; padding: 0px\; color: rgb(64\, 63\, 66)\; font-family: Arial\, Verdana\, Helvetica\, sans-serif\; font-size: 12px\; white-space-collapse: preserve\;">&nbsp\;</p>\n<span style="font-size:14px\;">Interested in speaking?&nbsp\; Interested in sponsoring?<br />\n<a href="mailto:jessica@crvchamber.org">Let us know!</a></span><br />\n<br />\n<span style="font-size:14px\;">Chamber members - you will receive photos and registration information for the session!</span>
LOCATION:Academy Building cafeteria\, 2143 Main Street\, Glastonbury. You can enter any of the doors (A\, B or C) near any of the parking lots to reach the cafeteria. Time\, as always\, is NOON.
UID:e.2240.18533
SEQUENCE:3
DTSTAMP:20260424T063341Z
URL:https://www.crvchamber.org/events/details/crv-chamber-open-networking-glastonbury-05-13-2026-18533
END:VEVENT

END:VCALENDAR
