BEGIN:VCALENDAR
VERSION:2.0
PRODID:-//ChamberMaster//Event Calendar 2.0//EN
METHOD:PUBLISH
X-PUBLISHED-TTL:P3D
REFRESH-INTERVAL:P3D
CALSCALE:GREGORIAN
BEGIN:VEVENT
DTSTART:20260430T170000Z
DTEND:20260430T180000Z
X-MICROSOFT-CDO-ALLDAYEVENT:FALSE
SUMMARY:HIPAA Compliance: What Your Business Needs to Know in 2026
DESCRIPTION:Cybersecurity and compliance are constantly evolving and HIPAA is no exception.\n\nJoin The Computer Company for a practical breakdown of recent HIPAA updates\, what they mean for your business\, and how your technology plays a critical role in staying compliant.\n\nWe'll cover common gaps\, real-world risks\, and actionable steps you can take to better protect your data\, your patients\, and your organization.
X-ALT-DESC;FMTTYPE=text/html:<p>Cybersecurity and compliance are constantly evolving&mdash\;and HIPAA is no exception.</p>\n\n<p>Join The Computer Company for a practical breakdown of recent HIPAA updates\, what they mean for your business\, and how your technology plays a critical role in staying compliant.</p>\n\n<p>We&rsquo\;ll cover common gaps\, real-world risks\, and actionable steps you can take to better protect your data\, your patients\, and your organization.</p>\n
LOCATION:
UID:e.2240.18528
SEQUENCE:3
DTSTAMP:20260421T152239Z
URL:https://www.crvchamber.org/events/details/hipaa-compliance-what-your-business-needs-to-know-in-2026-18528
END:VEVENT

END:VCALENDAR
