BEGIN:VCALENDAR
VERSION:2.0
PRODID:-//ChamberMaster//Event Calendar 2.0//EN
METHOD:PUBLISH
X-PUBLISHED-TTL:P3D
REFRESH-INTERVAL:P3D
CALSCALE:GREGORIAN
BEGIN:VEVENT
DTSTART;VALUE=DATE:20260502
DTEND;VALUE=DATE:20260503
TRANSP:TRANSPARENT
X-MICROSOFT-CDO-ALLDAYEVENT:TRUE
SUMMARY:Kidzone Tea Party Event!
DESCRIPTION:Kidzone x CT Kids Passports Presents: Tea Party! \n\nJoin us Saturday\, May 2\, 2026\, for an adorable and unforgettable Tea Party experience at Kidzone! \n\n\n\nChoose your session:\n\n11AM   1PM (Ages 1 4)\n\n2PM   4PM (Ages 5 9)\n\n\n\nTickets:\n\n$20 per child\n\nAdults enter FREE   RSVP required\n\nCT Kids Passport holders enjoy 10% off!\n\nTickets sold at www.kidzonect.com\n\n\n\nYour little ones will enjoy:\n\nSignature tea table manners\n\nLight bites of tea & sweet pastries\n\nBouncing\, fun activities & more!\n\n\n\nKidzone\n\n412B Middle Turnpike W\n\nManchester\, CT (Behind Planet Fitness)\n\n\n\nGive us a call at (860)791-2138 or text us at (860) 532-4206.\n\n\n\nAdults must be accompanied by a child to enter.\n\n\n\nSpots are limited   reserve your session today!
X-ALT-DESC;FMTTYPE=text/html:<span style="color:rgb(12\, 16\, 20)\; font-family:-apple-system\,blinkmacsystemfont\,segoe ui\,roboto\,helvetica\,arial\,sans-serif\; font-size:14px">Kidzone x CT Kids Passports Presents: Tea Party!&nbsp\;</span><br />\n<span style="color:rgb(12\, 16\, 20)\; font-family:-apple-system\,blinkmacsystemfont\,segoe ui\,roboto\,helvetica\,arial\,sans-serif\; font-size:14px">Join us Saturday\, May 2\, 2026\, for an adorable and unforgettable Tea Party experience at Kidzone!&nbsp\;</span><br />\n<br />\n<span style="color:rgb(12\, 16\, 20)\; font-family:-apple-system\,blinkmacsystemfont\,segoe ui\,roboto\,helvetica\,arial\,sans-serif\; font-size:14px">Choose your session:</span><br />\n<span style="color:rgb(12\, 16\, 20)\; font-family:-apple-system\,blinkmacsystemfont\,segoe ui\,roboto\,helvetica\,arial\,sans-serif\; font-size:14px">11AM &ndash\; 1PM (Ages 1&ndash\;4)</span><br />\n<span style="color:rgb(12\, 16\, 20)\; font-family:-apple-system\,blinkmacsystemfont\,segoe ui\,roboto\,helvetica\,arial\,sans-serif\; font-size:14px">2PM &ndash\; 4PM (Ages 5&ndash\;9)</span><br />\n<br />\n<span style="color:rgb(12\, 16\, 20)\; font-family:-apple-system\,blinkmacsystemfont\,segoe ui\,roboto\,helvetica\,arial\,sans-serif\; font-size:14px">Tickets:</span><br />\n<span style="color:rgb(12\, 16\, 20)\; font-family:-apple-system\,blinkmacsystemfont\,segoe ui\,roboto\,helvetica\,arial\,sans-serif\; font-size:14px">$20 per child</span><br />\n<span style="color:rgb(12\, 16\, 20)\; font-family:-apple-system\,blinkmacsystemfont\,segoe ui\,roboto\,helvetica\,arial\,sans-serif\; font-size:14px">Adults enter FREE &mdash\; RSVP required</span><br />\n<span style="color:rgb(12\, 16\, 20)\; font-family:-apple-system\,blinkmacsystemfont\,segoe ui\,roboto\,helvetica\,arial\,sans-serif\; font-size:14px">CT Kids Passport holders enjoy 10% off!</span><br />\n<span style="color:rgb(12\, 16\, 20)\; font-family:-apple-system\,blinkmacsystemfont\,segoe ui\,roboto\,helvetica\,arial\,sans-serif\; font-size:14px">Tickets sold at www.kidzonect.com</span><br />\n<br />\n<span style="color:rgb(12\, 16\, 20)\; font-family:-apple-system\,blinkmacsystemfont\,segoe ui\,roboto\,helvetica\,arial\,sans-serif\; font-size:14px">Your little ones will enjoy:</span><br />\n<span style="color:rgb(12\, 16\, 20)\; font-family:-apple-system\,blinkmacsystemfont\,segoe ui\,roboto\,helvetica\,arial\,sans-serif\; font-size:14px">Signature tea table manners</span><br />\n<span style="color:rgb(12\, 16\, 20)\; font-family:-apple-system\,blinkmacsystemfont\,segoe ui\,roboto\,helvetica\,arial\,sans-serif\; font-size:14px">Light bites of tea &amp\; sweet pastries</span><br />\n<span style="color:rgb(12\, 16\, 20)\; font-family:-apple-system\,blinkmacsystemfont\,segoe ui\,roboto\,helvetica\,arial\,sans-serif\; font-size:14px">Bouncing\, fun activities &amp\; more!</span><br />\n<br />\n<span style="color:rgb(12\, 16\, 20)\; font-family:-apple-system\,blinkmacsystemfont\,segoe ui\,roboto\,helvetica\,arial\,sans-serif\; font-size:14px">Kidzone</span><br />\n<span style="color:rgb(12\, 16\, 20)\; font-family:-apple-system\,blinkmacsystemfont\,segoe ui\,roboto\,helvetica\,arial\,sans-serif\; font-size:14px">412B Middle Turnpike W</span><br />\n<span style="color:rgb(12\, 16\, 20)\; font-family:-apple-system\,blinkmacsystemfont\,segoe ui\,roboto\,helvetica\,arial\,sans-serif\; font-size:14px">Manchester\, CT (Behind Planet Fitness)</span><br />\n<br />\n<span style="color:rgb(12\, 16\, 20)\; font-family:-apple-system\,blinkmacsystemfont\,segoe ui\,roboto\,helvetica\,arial\,sans-serif\; font-size:14px">Give us a call at (860)791-2138 or text us at (860) 532-4206.</span><br />\n<br />\n<span style="color:rgb(12\, 16\, 20)\; font-family:-apple-system\,blinkmacsystemfont\,segoe ui\,roboto\,helvetica\,arial\,sans-serif\; font-size:14px">Adults must be accompanied by a child to enter.</span><br />\n<br />\n<span style="color:rgb(12\, 16\, 20)\; font-family:-apple-system\,blinkmacsystemfont\,segoe ui\,roboto\,helvetica\,arial\,sans-serif\; font-size:14px">Spots are limited &mdash\; reserve your session today!&nbsp\;</span>
LOCATION:412b Middle Turnpike W Manchester CT\, 06040
UID:e.2240.18524
SEQUENCE:3
DTSTAMP:20260421T203710Z
URL:https://www.crvchamber.org/events/details/kidzone-tea-party-event-18524
END:VEVENT

END:VCALENDAR
