BEGIN:VCALENDAR
VERSION:2.0
PRODID:-//ChamberMaster//Event Calendar 2.0//EN
METHOD:PUBLISH
X-PUBLISHED-TTL:P3D
REFRESH-INTERVAL:P3D
CALSCALE:GREGORIAN
BEGIN:VEVENT
DTSTART:20260510T140000Z
DTEND:20260510T153000Z
X-MICROSOFT-CDO-ALLDAYEVENT:FALSE
SUMMARY:Mother's Day Tea
DESCRIPTION:Treat the special women in your life to an elegant Mother's Day filled with flowers and flavor. Enjoy music and a morning stroll through our gardens with WDS Head Gardener Pete Winne\, learning about the blooms and blossoms that shine in early Spring. Then share tea\, cake\, and conversation overlooking the beautiful grounds. Whether you're celebrating a mother\, grandmother\, daughter\, or dear friend\, this is a gracious way to honor the women who you hold dear.\n\n \n\nMother's Day Tea Menu*\n\nSavory Bites\n\nEgg Tartlett (DF\, GF)\n\nSmoked Salmon Finger Sandwiches\n\nCucumber & Cheddar Finger Sandwiches\n\nCoronation Chicken Tea Sandwich\n\n \n\nSweet Treats\n\nAssorted Scones with Cream & Jam\n\nFruit Tart\n\nFlourless Chocolate Torte (GF)\n\nBakewell Tart\n\n \n\nBeverages\n\nBlackberry Iced Tea\n\nStrawberry Lemonade\n\nSelection of Hot Tea\n\n*Menu subject to change. Please share allergens and food sensitivities to rdumouchel@wdsmuseum.org\n\n \n\nTickets: $65 | $55 members\n\n \n\nNote: Each event is limited to 20 guests. To book a private tour and tea for your friends and family\, contact events@wdsmuseum.org
X-ALT-DESC;FMTTYPE=text/html:<p>Treat the special women in your life to an elegant Mother&rsquo\;s Day filled with flowers and flavor. Enjoy music and a morning stroll through our gardens with WDS Head Gardener Pete Winne\, learning about the blooms and blossoms that shine in early Spring. Then share tea\, cake\, and conversation overlooking the beautiful grounds. Whether you&rsquo\;re celebrating a mother\, grandmother\, daughter\, or dear friend\, this is a gracious way to honor the women who you hold dear.</p>\n\n<p>&nbsp\;</p>\n\n<p><strong><u>Mother&rsquo\;s Day Tea Menu*</u></strong></p>\n\n<p><strong>Savory Bites</strong></p>\n\n<p>Egg Tartlett (DF\, GF)</p>\n\n<p>Smoked Salmon Finger Sandwiches</p>\n\n<p>Cucumber &amp\; Cheddar Finger Sandwiches</p>\n\n<p>Coronation Chicken Tea Sandwich</p>\n\n<p>&nbsp\;</p>\n\n<p><strong>Sweet Treats</strong></p>\n\n<p>Assorted Scones with Cream &amp\; Jam</p>\n\n<p>Fruit Tart</p>\n\n<p>Flourless Chocolate Torte (GF)</p>\n\n<p>Bakewell Tart</p>\n\n<p>&nbsp\;</p>\n\n<p><strong>Beverages</strong></p>\n\n<p>Blackberry Iced Tea</p>\n\n<p>Strawberry Lemonade</p>\n\n<p>Selection of Hot Tea</p>\n\n<p><em>*Menu subject to change. Please share allergens and food sensitivities to </em><a href="mailto:rdumouchel@wdsmuseum.org"><em>rdumouchel@wdsmuseum.org</em></a></p>\n\n<p>&nbsp\;</p>\n\n<p style="margin-left:0"><strong>Tickets:</strong><span style="background-color:var(--awb-bg-color-hover)\; color:var(--awb-body-color)"> $65 | $55 members</span></p>\n\n<p style="margin-left:0">&nbsp\;</p>\n\n<p style="margin-left:0"><em>Note: Each event is limited to 20 guests. To book a private tour and tea for your friends and family\, contact events@wdsmuseum.org</em></p>\n
LOCATION:Webb Deane Stevens Museum 211 Main Street Wethersfield\, Connecticut 06109
UID:e.2240.18529
SEQUENCE:3
DTSTAMP:20260421T204021Z
URL:https://www.crvchamber.org/events/details/mother-s-day-tea-18529
END:VEVENT

END:VCALENDAR
