BEGIN:VCALENDAR
VERSION:2.0
PRODID:-//ChamberMaster//Event Calendar 2.0//EN
METHOD:PUBLISH
X-PUBLISHED-TTL:P3D
REFRESH-INTERVAL:P3D
CALSCALE:GREGORIAN
BEGIN:VEVENT
DTSTART:20230606T200000Z
DTEND:20230607T010000Z
X-MICROSOFT-CDO-ALLDAYEVENT:FALSE
SUMMARY:Panini with a Purpose
DESCRIPTION:Please join us at Hot Table on Tues June 6th from 4pm -9pm for a delicious panini or salad and 25% ofyour purchase will be donated to the Glastonbury Centennial Lions Club. \n\nPlease show the attached flyer at checkout\, either printed or digital\, for your donation to be acceptable.\n\nor if ordering online use Promo Code  GIVE25\n\nThank you for your support
X-ALT-DESC;FMTTYPE=text/html:<h2 style="font-style:italic\;">Please join us at Hot Table on Tues June 6th from 4pm -9pm for a delicious panini or salad and 25% ofyour purchase will be donated to the Glastonbury Centennial Lions Club.&nbsp\;</h2>\n\n<h2 style="font-style:italic\;">Please show the attached flyer at checkout\, either printed or digital\, for your donation to be acceptable.</h2>\n\n<h2 style="font-style:italic\;">or if ordering online use Promo Code &nbsp\;GIVE25</h2>\n\n<h2 style="font-style:italic\;">Thank you for your support<br />\n&nbsp\;</h2>\n\n<p>&nbsp\;</p>\n
LOCATION:Griswold Shoppes corner of Griswold St & Main Glastonbury\, CT
UID:e.2240.12796
SEQUENCE:3
DTSTAMP:20260420T130800Z
URL:https://www.crvchamber.org/events/details/panini-with-a-purpose-06-06-2023-12796
END:VEVENT

END:VCALENDAR
