BEGIN:VCALENDAR
VERSION:2.0
PRODID:-//ChamberMaster//Event Calendar 2.0//EN
METHOD:PUBLISH
X-PUBLISHED-TTL:P3D
REFRESH-INTERVAL:P3D
CALSCALE:GREGORIAN
BEGIN:VEVENT
DTSTART:20260514T213000Z
DTEND:20260515T010000Z
X-MICROSOFT-CDO-ALLDAYEVENT:FALSE
SUMMARY:Trinity Academy Spark Gala
DESCRIPTION:Please join us for dinner\, performances\, and an auction as we celebrate the accomplishments of our students at The Lyceum in Hartford on May 14th.\n\nWe will hear from Nick Briere\, Executive Director of Connecticut Invention Convention\, and honor longtime volunteer Sharon Bartlett.\n\nTrinity Academy's mission is to provide Hartford-area children with an exceptional elementary school education that emphasizes equity\, diversity\, and an individualized learning plan for every student. Our tuition-free program is designed for students from historically under-resourced communities.\n\nAt Trinity Academy\, we foster a nurturing and inclusive environment that values family\, community\, and personal growth. Through intensive academics that include the arts\, literacy\, critical thinking\, and social-emotional learning\, we empower students with a love of learning and the tools for a successful future.\n\n\n\nFor more information contact Barton Darney:\n\nbdarney@trinityday.org\, (203) 985-9817
X-ALT-DESC;FMTTYPE=text/html:<p>Please join us for dinner\, performances\, and an auction as we celebrate the accomplishments of our students at The Lyceum in Hartford on May 14th.</p>\n\n<p>We will hear from Nick Briere\, Executive Director of&nbsp\;Connecticut Invention Convention\, and honor longtime volunteer Sharon Bartlett.</p>\n\n<p>Trinity Academy&rsquo\;s mission is to provide Hartford-area children with an exceptional elementary school education that emphasizes equity\, diversity\, and an individualized learning plan for every student. Our tuition-free program is designed for students from historically under-resourced communities.</p>\n\n<p>At Trinity Academy\, we foster a nurturing and inclusive environment that values family\, community\, and personal growth. Through intensive academics that include the arts\, literacy\, critical thinking\, and social-emotional learning\, we empower students with a love of learning and the tools for a successful future.<br />\n<br />\nFor more information contact Barton Darney:<br />\nbdarney@trinityday.org\, (203) 985-9817</p>\n\n<p>&nbsp\;</p>\n
LOCATION:THE LYCEUM 227 LAWRENCE STREET HARTFORD
UID:e.2240.18536
SEQUENCE:3
DTSTAMP:20260424T062434Z
URL:https://www.crvchamber.org/events/details/trinity-academy-spark-gala-18536
END:VEVENT

END:VCALENDAR
