BEGIN:VCALENDAR
VERSION:2.0
PRODID:-//ChamberMaster//Event Calendar 2.0//EN
METHOD:PUBLISH
X-PUBLISHED-TTL:P3D
REFRESH-INTERVAL:P3D
CALSCALE:GREGORIAN
BEGIN:VEVENT
DTSTART:20240723T221000Z
DTEND:20240724T013000Z
X-MICROSOFT-CDO-ALLDAYEVENT:FALSE
SUMMARY:2024 Yardgoats Game with SPARC/PYVOT/FLOW/Windsor YP and Farmington Valley Young Professionals
DESCRIPTION:Yardgoats Game vs Harrisburg Senators (Washington Nationals) \n\nCome network and socialize with SPARC\, PYVOT \, FLOW\, Windsor YP\, & Farmington Valley Young Professionals on July 23rd for a Yardgoats game and Bouncing Pickle Sock Giveaway!\n\n \n\nThis special offer is only $25 and includes:\n\n	Ticket to the Yard Goats game on 7/23\n	$2 off food\, drink & merchandise at the park\n	An opportunity to hang with some greater Hartford young professionals. \n\nGates open: 6:10 pm\n\nGame Start: 7:10pm
X-ALT-DESC;FMTTYPE=text/html:<strong><span style="font-size:12.0pt\;">Yardgoats Game vs Harrisburg Senators (Washington Nationals)&nbsp\;</span></strong><br />\n<span style="font-size:12.0pt\;">Come network and socialize with <a href="https://www.crvchamber.org/sparc">SPARC</a>\, <a href="https://pyvotct.com/">PYVOT</a>&nbsp\;\, <a href="https://www.whchamber.com/flow">FLOW</a>\, <a href="https://windsorcc.org/">Windsor YP</a>\, &amp\; <a href="https://www.gfachamber.com/young-professionals-committee/#!event-list">Farmington Valley Young Professionals</a> on July 23</span><span style="font-size: 13.3333px\;">rd <span style="font-size:16px\;">for a</span></span><span style="font-size: 12pt\;"><span style="font-size:16px\;">&nbsp\;</span>Yardgoats game and Bouncing Pickle Sock Giveaway!</span><br />\n&nbsp\;<br />\n<span style="font-size:12.0pt\;">This special offer is only $25 and includes:</span>\n<ul>\n	<li><span style="font-size:12.0pt\;">Ticket to the Yard Goats game on 7/23</span></li>\n	<li><span style="font-size:12.0pt\;">$2 off food\, drink &amp\; merchandise at the park</span></li>\n	<li><span style="font-size:12.0pt\;">An opportunity to hang with some greater Hartford young professionals. </span></li>\n</ul>\n<span style="font-size: 16px\;">Gates open: 6:10 pm</span><br />\n<span style="font-size:12.0pt\;">Game Start: 7:10pm </span>
LOCATION:Dunkin Park 1214 Main Street Hartford\, CT
UID:e.2240.13349
SEQUENCE:3
DTSTAMP:20260424T182621Z
URL:https://www.crvchamber.org/events/details/2024-yardgoats-game-with-sparc-pyvot-flow-windsor-yp-and-farmington-valley-young-professionals-13349
END:VEVENT

END:VCALENDAR
