BEGIN:VCALENDAR
VERSION:2.0
PRODID:-//ChamberMaster//Event Calendar 2.0//EN
METHOD:PUBLISH
X-PUBLISHED-TTL:P3D
REFRESH-INTERVAL:P3D
CALSCALE:GREGORIAN
BEGIN:VEVENT
DTSTART:20230720T213500Z
DTEND:20230721T013000Z
X-MICROSOFT-CDO-ALLDAYEVENT:FALSE
SUMMARY:July 2023 Yardgoats Game with SPARC/PYVOT/FLOW and Farmington Valley Young Professionals
DESCRIPTION:UPDATE:  THIS EVENT IS SOLD OUT!  Registration is now closed\, but standing room only tickets are still available for $10 if you would like to attend.  If interested\, please CLICK HERE to contact Dan Sardilli for tickets.\n\n\n\n\n\nYardgoats Game vs Somerset Patriots (Yankees Affiliates) and Young Professionals Tour of Dunkin' Park\n\nCome network and socialize with SPARC\, PYVOT \, FLOW & Farmington Valley Young Professionals on July 20th for an exclusive tour of Dunkin' Donuts park and a Yardgoats game!\n\n \n\nThis special offer is only $25 and includes:\n\n	Behind the scenes tour of Dunkin' Donuts Park in Hartford\, home of the Yard Goats - starts at 5:35 pm!\n	Ticket to the Yard Goats game on 7/20\n	$2 off food\, drink & merchandise at the park\n	An opportunity to hang with some greater Hartford young professionals. \n\n \n\nStadium Tour: 5:35 pm\n\nGame Start: 7:10pm
X-ALT-DESC;FMTTYPE=text/html:<strong><span style="font-size:12.0pt\;"><span style="color:#0000FF\;"><span style="font-size:24px\;">UPDATE:&nbsp\; THIS EVENT IS SOLD OUT!</span>&nbsp\;</span> <span style="font-size:20px\;"><span style="background-color:#AFEEEE\;">Registration is now closed\, but standing room only tickets are still available for $10 if you would like to attend.&nbsp\; If interested\, please <a href="mailto:Dan@sardilliagency.com?subject=Yard%20Goats%20Tickets&amp\;body=Please%20send%20me%20information%20on%20purchasing%20standing%20room%20only%20tickets%20for%20the%20Yard%20Goats%20event%20on%207%2F20.%20%20Thank%20you!">CLICK HERE to contact Dan Sardilli </a>for tickets</span><span style="background-color:#AFEEEE\;">.</span></span><br />\n<br />\n<br />\nYardgoats Game vs Somerset Patriots (Yankees Affiliates) and Young Professionals Tour of Dunkin&rsquo\; Park</span></strong><br />\n<span style="font-size:12.0pt\;">Come network and socialize with <a href="https://www.crvchamber.org/sparc">SPARC</a>\, <a href="https://pyvotct.com/">PYVOT</a>&nbsp\;\, <a href="https://www.whchamber.com/flow">FLOW</a> &amp\; <a href="https://www.gfachamber.com/young-professionals-committee/#!event-list">Farmington Valley Young Professionals</a> on July 20<sup>th</sup> for an exclusive tour of Dunkin&rsquo\; Donuts park and a Yardgoats game!</span><br />\n&nbsp\;<br />\n<span style="font-size:12.0pt\;">This special offer is only $25 and includes:</span>\n<ul>\n	<li><span style="font-size:12.0pt\;">Behind the scenes tour of Dunkin&rsquo\; Donuts Park in Hartford\, home of the Yard Goats - <strong>starts at 5:35 pm!</strong></span></li>\n	<li><span style="font-size:12.0pt\;">Ticket to the Yard Goats game on 7/20</span></li>\n	<li><span style="font-size:12.0pt\;">$2 off food\, drink &amp\; merchandise at the park</span></li>\n	<li><span style="font-size:12.0pt\;">An opportunity to hang with some greater Hartford young professionals. </span></li>\n</ul>\n&nbsp\;<br />\n<span style="font-size:12.0pt\;">Stadium Tour: 5:35 pm</span><br />\n<span style="font-size:12.0pt\;">Game Start: 7:10pm </span>
LOCATION:Dunkin Park 1214 Main Street Hartford\, CT
UID:e.2240.12645
SEQUENCE:3
DTSTAMP:20260425T135842Z
URL:https://www.crvchamber.org/events/details/july-2023-yardgoats-game-with-sparc-pyvot-flow-and-farmington-valley-young-professionals-12645
END:VEVENT

END:VCALENDAR
